BEGIN:VCALENDAR
VERSION:2.0
PRODID:-//wp-events-plugin.com//7.2.3.1//EN
TZID:Europe/Berlin
X-WR-TIMEZONE:Europe/Berlin
BEGIN:VEVENT
UID:29@ggv-tempelhof-schoeneberg.de
DTSTART;TZID=Europe/Berlin:20250214T150000
DTEND;TZID=Europe/Berlin:20250214T170000
DTSTAMP:20250131T170633Z
URL:https://ggv-tempelhof-schoeneberg.de/termine/infoveranstaltung-wohnsch
 ulseminar/
SUMMARY:Infoveranstaltung Wohnschulseminar
DESCRIPTION:https://ggv-tempelhof-schoeneberg.de/2025/01/31/infoveranstaltu
 ng-wohnschulseminar/
LOCATION:Kiezoase\,  Barbarossastraße 65\,  Berlin\, 10181\, Deutschland
X-APPLE-STRUCTURED-LOCATION;VALUE=URI;X-ADDRESS= Barbarossastraße 65\,  Be
 rlin\, 10181\, Deutschland;X-APPLE-RADIUS=100;X-TITLE=Kiezoase:geo:0,0
END:VEVENT
BEGIN:VTIMEZONE
TZID:Europe/Berlin
X-LIC-LOCATION:Europe/Berlin
BEGIN:STANDARD
DTSTART:20241027T020000
TZOFFSETFROM:+0200
TZOFFSETTO:+0100
TZNAME:CET
END:STANDARD
END:VTIMEZONE
END:VCALENDAR